BEGIN:VCALENDAR
VERSION:2.0
PRODID:-//Tukios.com/
BEGIN:VEVENT
UID:60169a62-8222-4e6e-9bf7-42df3b6f5fc7@www.tibbettsfischerfuneralhome.com
DTSTAMP:20260421T040526Z
DTSTART:20260423T180000Z
DTEND:20260424T020000Z
SUMMARY:Visitation
DESCRIPTION:
URL:https://www.tibbettsfischerfuneralhome.com/obituaries/randy-krotz
LOCATION: 1104 20th Street/PO Box 566  Belleville KS 66935
GEO:39.8244501;-97.6325415
END:VEVENT
END:VCALENDAR