BEGIN:VCALENDAR
VERSION:2.0
PRODID:-//Tukios.com/
BEGIN:VEVENT
UID:c8f9de5c-2e66-4c11-82d8-2e25c74b20d6@www.tibbettsfischerfuneralhome.com
DTSTAMP:20260421T040516Z
DTSTART:20260424T000000Z
DTEND:20260424T010000Z
SUMMARY:Rosary / Vigil Service
DESCRIPTION:
URL:https://www.tibbettsfischerfuneralhome.com/obituaries/randy-krotz
LOCATION: 1104 20th Street/PO Box 566  Belleville KS 66935
GEO:39.8244501;-97.6325415
END:VEVENT
END:VCALENDAR