BEGIN:VCALENDAR
VERSION:2.0
PRODID:-//Tukios.com/
BEGIN:VEVENT
UID:341f688c-6f21-4e75-b714-25e11b1a7d9d@www.tibbettsfischerfuneralhome.com
DTSTAMP:20260421T040429Z
DTSTART:20260424T153000Z
DTEND:20260424T163000Z
SUMMARY:Mass
DESCRIPTION:
URL:https://www.tibbettsfischerfuneralhome.com/obituaries/randy-krotz
LOCATION:St. Edward Catholic Church 1827 Q St  Belleville KS 66935
GEO:39.8231908;-97.6258146
END:VEVENT
END:VCALENDAR